BEGIN:VCALENDAR
VERSION:2.0
PRODID:-//Independent Steel Alliance - ECPv6.15.20//NONSGML v1.0//EN
CALSCALE:GREGORIAN
METHOD:PUBLISH
X-ORIGINAL-URL:https://independentsteelalliance.com
X-WR-CALDESC:Events for Independent Steel Alliance
REFRESH-INTERVAL;VALUE=DURATION:PT1H
X-Robots-Tag:noindex
X-PUBLISHED-TTL:PT1H
BEGIN:VTIMEZONE
TZID:America/Los_Angeles
BEGIN:DAYLIGHT
TZOFFSETFROM:-0800
TZOFFSETTO:-0700
TZNAME:PDT
DTSTART:20230312T100000
END:DAYLIGHT
BEGIN:STANDARD
TZOFFSETFROM:-0700
TZOFFSETTO:-0800
TZNAME:PST
DTSTART:20231105T090000
END:STANDARD
BEGIN:DAYLIGHT
TZOFFSETFROM:-0800
TZOFFSETTO:-0700
TZNAME:PDT
DTSTART:20240310T100000
END:DAYLIGHT
BEGIN:STANDARD
TZOFFSETFROM:-0700
TZOFFSETTO:-0800
TZNAME:PST
DTSTART:20241103T090000
END:STANDARD
BEGIN:DAYLIGHT
TZOFFSETFROM:-0800
TZOFFSETTO:-0700
TZNAME:PDT
DTSTART:20250309T100000
END:DAYLIGHT
BEGIN:STANDARD
TZOFFSETFROM:-0700
TZOFFSETTO:-0800
TZNAME:PST
DTSTART:20251102T090000
END:STANDARD
END:VTIMEZONE
BEGIN:VEVENT
DTSTART;TZID=America/Los_Angeles:20240124T160000
DTEND;TZID=America/Los_Angeles:20240124T180000
DTSTAMP:20260420T032153
CREATED:20230829T200026Z
LAST-MODIFIED:20230829T200120Z
UID:1686-1706112000-1706119200@independentsteelalliance.com
SUMMARY:2024 ISA Reception at World of Concrete
DESCRIPTION:Wednesday\, January 24\, 2024\, 4:00p – 6:00p \nBellagio Resort & Casino
URL:https://independentsteelalliance.com/event/2024-isa-reception-at-world-of-concrete/
LOCATION:Bellagio Hotel & Casino\, 3600 S Las Vegas Blvd\, Las Vegas\, GA\, 89109\, United States
CATEGORIES:General
ATTACH;FMTTYPE=image/png:https://independentsteelalliance.com/wp-content/uploads/2023/08/Reception-Icon.png
END:VEVENT
END:VCALENDAR